BEGIN:VCALENDAR
VERSION:2.0
PRODID:-//Mishawaka Education Foundation - ECPv6.15.18//NONSGML v1.0//EN
CALSCALE:GREGORIAN
METHOD:PUBLISH
X-ORIGINAL-URL:https://mishawakaedu.org
X-WR-CALDESC:Events for Mishawaka Education Foundation
REFRESH-INTERVAL;VALUE=DURATION:PT1H
X-Robots-Tag:noindex
X-PUBLISHED-TTL:PT1H
BEGIN:VTIMEZONE
TZID:America/Indiana/Indianapolis
BEGIN:DAYLIGHT
TZOFFSETFROM:-0500
TZOFFSETTO:-0400
TZNAME:EDT
DTSTART:20250309T070000
END:DAYLIGHT
BEGIN:STANDARD
TZOFFSETFROM:-0400
TZOFFSETTO:-0500
TZNAME:EST
DTSTART:20251102T060000
END:STANDARD
BEGIN:DAYLIGHT
TZOFFSETFROM:-0500
TZOFFSETTO:-0400
TZNAME:EDT
DTSTART:20260308T070000
END:DAYLIGHT
BEGIN:STANDARD
TZOFFSETFROM:-0400
TZOFFSETTO:-0500
TZNAME:EST
DTSTART:20261101T060000
END:STANDARD
BEGIN:DAYLIGHT
TZOFFSETFROM:-0500
TZOFFSETTO:-0400
TZNAME:EDT
DTSTART:20270314T070000
END:DAYLIGHT
BEGIN:STANDARD
TZOFFSETFROM:-0400
TZOFFSETTO:-0500
TZNAME:EST
DTSTART:20271107T060000
END:STANDARD
END:VTIMEZONE
BEGIN:VEVENT
DTSTART;TZID=America/Indiana/Indianapolis:20260713T113000
DTEND;TZID=America/Indiana/Indianapolis:20260713T170000
DTSTAMP:20260420T123017
CREATED:20190127T155519Z
LAST-MODIFIED:20260414T142114Z
UID:1341-1783942200-1783962000@mishawakaedu.org
SUMMARY:Golf Tournament - Chip In for Education
DESCRIPTION:Join us July 13th for the 9th annual golf tournament: Chip in for Education!\nThis event is an opportunity to feature your business and show your support for Mishawaka teachers and students all while enjoying a day on the links.\nGet your foursomes ready!\nREGISTER YOUR FOURSOME HERE!\nLOCATION: Morris Park Country Club (View Map)\nSCHEDULE:\n11:30 AM – 12:45 PM……..Registration/Lunch\n1:00 PM………………………… Shotgun Start\nAwards ceremony immediately following golf. \nENTRY FEE: $700\n*subject to change\nIncludes:\n• 4-person team\n• lunch\n• 18-holes of golf\n• 4 mulligans\n• golf carts\n• practice facility\n• awards\n• and refreshments. \nFORMAT: Scramble         AWARDS: 1st\, 2nd\, and 3rd Place\nCHALLENGES: (included in entry fee)\n• Hole–in–one\n• Men’s and Women’s Longest drive\n• Men’s and Women’s Longest putt\n• Closest to the pin \nATTIRE: All golfers must wear collared shirts. No denim/jeans. Appropriate golfing shorts are permitted. \nTHANK YOU SPONSORS\nThis event would not be possible without the generosity of our sponsors.\nPlease take a moment to recognize their contribution to\nMishawaka students\, teachers\, and staff.\nPRESENTING SPONSOR\nVALEDICTORIAN SPONSOR\n\nSALUTATORIAN SPONSOR\nHONOR ROLL SPONSOR\nTEACHER’S PET SPONSOR  \nHOMEROOM SPONSOR\n\nHOLE SPONSOR\n\n   ROOT BEER FLOAT SPONSOR\n\nHOLE-IN-ONE SPONSOR\n\n*Contact Jane Wright at foundation@mishawaka.k12.in.us for sponsorship opportunities. \n 
URL:https://mishawakaedu.org/event/golf-tournament-chip-in-for-education/
LOCATION:Morris Park Country Club\, 2200 McKinley Ave\, South Bend\, IN\, 46615
CATEGORIES:Fundraising,Golf
ATTACH;FMTTYPE=image/png:https://mishawakaedu.org/wp-content/uploads/2019/01/golf-save-the-date-card.png
ORGANIZER;CN="Jane Wright":MAILTO:foundation@mishawaka.k12.in.us
END:VEVENT
END:VCALENDAR